BEGIN:VCALENDAR
VERSION:2.0
PRODID:icalendar-ruby
CALSCALE:GREGORIAN
BEGIN:VEVENT
DTSTAMP:20260421T140310Z
UID:2b13d5bb-65c5-4803-b1a0-2f6bfef9935c
DTSTART;VALUE=DATE:20250423
DESCRIPTION:Property ID# 591118\, Locatoin: Ray White Wellington City\, Lev
 el1\, 77 Thorndon Quay\, Thorndon\, Wellington\, Time: 2:00PM
SUMMARY:Auction for 
END:VEVENT
END:VCALENDAR
