BEGIN:VCALENDAR
VERSION:2.0
PRODID:icalendar-ruby
CALSCALE:GREGORIAN
BEGIN:VEVENT
DTSTAMP:20260421T224337Z
UID:c6848b1c-5aa8-4140-ba29-a2b322854489
DTSTART;VALUE=DATE:20220427
DESCRIPTION:Property ID# 533758\, Locatoin: 99 Mana Esplanade\, Paremata\, 
 Time: 12:00PM
SUMMARY:Auction for 
END:VEVENT
END:VCALENDAR
