BEGIN:VCALENDAR
VERSION:2.0
PRODID:icalendar-ruby
CALSCALE:GREGORIAN
BEGIN:VEVENT
DTSTAMP:20260421T223936Z
UID:eb90de4e-097d-491f-af87-12f7951221b4
DTSTART;VALUE=DATE:20220323
DESCRIPTION:Property ID# 530260\, Locatoin: Tommys Mana 99 Mana Esplanade\,
  Time: 12:00PM
SUMMARY:Auction for 
END:VEVENT
END:VCALENDAR
