BEGIN:VCALENDAR
VERSION:2.0
PRODID:icalendar-ruby
CALSCALE:GREGORIAN
BEGIN:VEVENT
DTSTAMP:20260421T201607Z
UID:54b591f6-a9f4-40e2-9ed3-50912e3102f9
DTSTART;VALUE=DATE:20211124
DESCRIPTION:Property ID# 521257\, Locatoin: Tommy's Mana\, 99 Mana Esplanad
 e\, Paremata \, Time: 1:00PM
SUMMARY:Auction for 
END:VEVENT
END:VCALENDAR
