BEGIN:VCALENDAR
VERSION:2.0
PRODID:icalendar-ruby
CALSCALE:GREGORIAN
BEGIN:VEVENT
DTSTAMP:20260421T224205Z
UID:3ead3ec3-8727-46b7-9156-4ab9beee130f
DTSTART;VALUE=DATE:20211027
DESCRIPTION:Property ID# 518371\, Locatoin: Tommys Mana\, 99 Mana Esplanade
 \, Paremata\, Time: 1:00PM
SUMMARY:Auction for 
END:VEVENT
END:VCALENDAR
