BEGIN:VCALENDAR
VERSION:2.0
PRODID:icalendar-ruby
CALSCALE:GREGORIAN
BEGIN:VEVENT
DTSTAMP:20260421T224337Z
UID:3932151a-208e-4da0-a24a-674e7a16caf9
DTSTART;VALUE=DATE:20211020
DESCRIPTION:Property ID# 518320\, Locatoin: Tommy's Mana 99 Esplanade Parem
 ata \, Time: 1:00PM
SUMMARY:Auction for 
END:VEVENT
END:VCALENDAR
