BEGIN:VCALENDAR
VERSION:2.0
PRODID:icalendar-ruby
CALSCALE:GREGORIAN
BEGIN:VEVENT
DTSTAMP:20260421T230430Z
UID:afba641b-b733-4eb3-95b6-6e991ac22d67
DTSTART;VALUE=DATE:20210331
DESCRIPTION:Property ID# 504427\, Locatoin: Tommys Mana\, 99 Mana Esplanade
 \, Paremata\, Time: 1:00PM
SUMMARY:Auction for 
END:VEVENT
END:VCALENDAR
