BEGIN:VCALENDAR
VERSION:2.0
PRODID:icalendar-ruby
CALSCALE:GREGORIAN
BEGIN:VEVENT
DTSTAMP:20260419T195922Z
UID:76ce8381-b739-4fbf-8df9-1cf0726086a9
DTSTART;VALUE=DATE:20201210
DESCRIPTION:Property ID# 495410\, Locatoin: Harcourts Paraparaumu\, Time: 1
 2:00PM
SUMMARY:Auction for 
END:VEVENT
END:VCALENDAR
