BEGIN:VCALENDAR
VERSION:2.0
PRODID:icalendar-ruby
CALSCALE:GREGORIAN
BEGIN:VEVENT
DTSTAMP:20210122T075907Z
UID:ea1c32af-759f-41f9-9472-a7c268416c08
DTSTART;TZID=Pacific/Auckland:20210124T140000
DTEND;TZID=Pacific/Auckland:20210124T144500
DESCRIPTION:Property ID# 499291
SUMMARY:Openhome for 
END:VEVENT
END:VCALENDAR
