BEGIN:VCALENDAR
VERSION:2.0
PRODID:icalendar-ruby
CALSCALE:GREGORIAN
BEGIN:VEVENT
DTSTAMP:20210122T075900Z
UID:f9ff4ee3-22ef-48fc-ab69-4f9c43593df9
DTSTART;TZID=Pacific/Auckland:20210124T130000
DTEND;TZID=Pacific/Auckland:20210124T134500
DESCRIPTION:Property ID# 499452
SUMMARY:Openhome for 1 Sailmaker Close
END:VEVENT
END:VCALENDAR
