BEGIN:VCALENDAR
VERSION:2.0
PRODID:icalendar-ruby
CALSCALE:GREGORIAN
BEGIN:VEVENT
DTSTAMP:20210122T075903Z
UID:847f174b-78ae-4ab1-805d-1d9146c1d9e9
DTSTART;VALUE=DATE:20210203
DESCRIPTION:Property ID# 499452\, Locatoin: Harcourts Paremata @ 1pm\, Time
 : 1:00PM
SUMMARY:Auction for 1 Sailmaker Close
END:VEVENT
END:VCALENDAR
