BEGIN:VCALENDAR
VERSION:2.0
PRODID:icalendar-ruby
CALSCALE:GREGORIAN
BEGIN:VEVENT
DTSTAMP:20210122T080125Z
UID:4bd036e9-7acf-4895-87fa-e7ab414f6d69
DTSTART;VALUE=DATE:20201222
DESCRIPTION:Property ID# 497626\, Locatoin: Harcourts Paremata Office - 7 D
 olly Varden Crescent\, Paremata (unless sold prior)\, Time: 12:00PM
SUMMARY:Auction for 
END:VEVENT
END:VCALENDAR
