BEGIN:VCALENDAR
VERSION:2.0
PRODID:icalendar-ruby
CALSCALE:GREGORIAN
BEGIN:VEVENT
DTSTAMP:20210122T080103Z
UID:19182841-b26a-4567-a41b-afbe01d2f3a5
DTSTART;VALUE=DATE:20201217
DESCRIPTION:Property ID# 496378\, Locatoin: Harcourts Paremata @ 1pm\, Time
 : 1:00PM
SUMMARY:Auction for 
END:VEVENT
END:VCALENDAR
