BEGIN:VCALENDAR
VERSION:2.0
PRODID:icalendar-ruby
CALSCALE:GREGORIAN
BEGIN:VEVENT
DTSTAMP:20210122T080811Z
UID:cb888fa5-5b57-4976-ab42-ccea2fb1697a
DTSTART;VALUE=DATE:20201126
DESCRIPTION:Property ID# 494726\, Locatoin: Tommys Mana 99 Mana Esplanade P
 aremata \, Time: 1:00PM
SUMMARY:Auction for 
END:VEVENT
END:VCALENDAR
