BEGIN:VCALENDAR
VERSION:2.0
PRODID:icalendar-ruby
CALSCALE:GREGORIAN
BEGIN:VEVENT
DTSTAMP:20210122T080812Z
UID:d95c5024-bb85-497c-8678-77bb97cbdfb8
DTSTART;VALUE=DATE:20201119
DESCRIPTION:Property ID# 494083\, Locatoin: Tommy's Mana\, 99 Mana Esplanad
 e\, Paremata\, Time: 1:00PM
SUMMARY:Auction for 
END:VEVENT
END:VCALENDAR
