BEGIN:VCALENDAR
VERSION:2.0
PRODID:icalendar-ruby
CALSCALE:GREGORIAN
BEGIN:VEVENT
DTSTAMP:20210122T080133Z
UID:dff6db63-2d5a-4bf3-8228-03533cb4cb4b
DTSTART;VALUE=DATE:20201105
DESCRIPTION:Property ID# 492028\, Locatoin: Onsite - 4 Shoal Place\, Whitby
 \, Time: 6:00PM
SUMMARY:Auction for 
END:VEVENT
END:VCALENDAR
