BEGIN:VCALENDAR
VERSION:2.0
PRODID:icalendar-ruby
CALSCALE:GREGORIAN
BEGIN:VEVENT
DTSTAMP:20210122T080134Z
UID:1b1666f4-eb41-42aa-a472-ea60d6e8cc0a
DTSTART;VALUE=DATE:20201029
DESCRIPTION:Property ID# 491314\, Locatoin: Harcourts Paremata Office - 7 D
 olly Varden Crescent\, Paremata (not selling prior)\, Time: 4:00PM
SUMMARY:Auction for 
END:VEVENT
END:VCALENDAR
