BEGIN:VCALENDAR
VERSION:2.0
PRODID:icalendar-ruby
CALSCALE:GREGORIAN
BEGIN:VEVENT
DTSTAMP:20210122T080136Z
UID:ab85fec9-8ca3-4f29-9a3d-c44dbc5f0210
DTSTART;VALUE=DATE:20201015
DESCRIPTION:Property ID# 490672\, Locatoin: Harcourts Paremata Office - 7 D
 olly Varden Crescent\, Paremata (not selling prior)\, Time: 4:00PM
SUMMARY:Auction for 
END:VEVENT
END:VCALENDAR
