BEGIN:VCALENDAR
VERSION:2.0
PRODID:icalendar-ruby
CALSCALE:GREGORIAN
BEGIN:VEVENT
DTSTAMP:20210122T080807Z
UID:afd8c070-3632-4f02-821f-9d4db36c681b
DTSTART;VALUE=DATE:20201001
DESCRIPTION:Property ID# 490340\, Locatoin: Clark & Co Realty\, 7 Mana Espl
 anade\, Paremata\, Time: 12:00PM
SUMMARY:Auction for 
END:VEVENT
END:VCALENDAR
