BEGIN:VCALENDAR
VERSION:2.0
PRODID:icalendar-ruby
CALSCALE:GREGORIAN
BEGIN:VEVENT
DTSTAMP:20210122T080106Z
UID:7c165f57-16c3-402d-b3b1-0fabafb2e230
DTSTART;VALUE=DATE:20201008
DESCRIPTION:Property ID# 489722\, Locatoin: Harcourts Paremata at 4pm (no s
 ale prior)\, Time: 4:00PM
SUMMARY:Auction for 
END:VEVENT
END:VCALENDAR
