BEGIN:VCALENDAR
VERSION:2.0
PRODID:icalendar-ruby
CALSCALE:GREGORIAN
BEGIN:VEVENT
DTSTAMP:20210122T080140Z
UID:42d45df8-8fd7-42c4-acce-e2deed4799d3
DTSTART;VALUE=DATE:20200717
DESCRIPTION:Property ID# 484691\, Locatoin: Harcourts Paremata Office - 7 D
 olly Varden Crescent\, Paremata (unless dold prior)\, Time: 4:00PM
SUMMARY:Auction for 
END:VEVENT
END:VCALENDAR
