BEGIN:VCALENDAR
VERSION:2.0
PRODID:icalendar-ruby
CALSCALE:GREGORIAN
BEGIN:VEVENT
DTSTAMP:20210122T080142Z
UID:ecbe9675-c128-43d4-9ed1-dc6d7721a3d9
DTSTART;VALUE=DATE:20200616
DESCRIPTION:Property ID# 482171\, Locatoin: Harcourts Paremata Office - 7 D
 olly Varden Crescent\, Paremata (unless sold prior)\, Time: 5:00PM
SUMMARY:Auction for 
END:VEVENT
END:VCALENDAR
