BEGIN:VCALENDAR
VERSION:2.0
PRODID:icalendar-ruby
CALSCALE:GREGORIAN
BEGIN:VEVENT
DTSTAMP:20210122T080144Z
UID:6dccff76-be62-4373-ab1a-31c22dc33fc8
DTSTART;VALUE=DATE:20200624
DESCRIPTION:Property ID# 482170\, Locatoin: Harcourts Lower Hutt Office - 5
 16 High Street\, Lower Hutt\, Time: 12:00PM
SUMMARY:Auction for 
END:VEVENT
END:VCALENDAR
