BEGIN:VCALENDAR
VERSION:2.0
PRODID:icalendar-ruby
CALSCALE:GREGORIAN
BEGIN:VEVENT
DTSTAMP:20210122T080112Z
UID:f94394f8-8faf-4d22-ada5-54a7b9cc28b0
DTSTART;VALUE=DATE:20200604
DESCRIPTION:Property ID# 475805\, Locatoin: Harcourts Paremata @ 1pm\, Time
 : 1:00PM
SUMMARY:Auction for 
END:VEVENT
END:VCALENDAR
