BEGIN:VCALENDAR
VERSION:2.0
PRODID:icalendar-ruby
CALSCALE:GREGORIAN
BEGIN:VEVENT
DTSTAMP:20210122T080513Z
UID:e173fb17-f545-4d2d-b7db-41caf3e4a72b
DTSTART;VALUE=DATE:20200401
DESCRIPTION:Property ID# 475086\, Locatoin: Harcourts Paremata Office (not 
 selling prior)\, Time: 1:00PM
SUMMARY:Auction for 
END:VEVENT
END:VCALENDAR
