BEGIN:VCALENDAR
VERSION:2.0
PRODID:icalendar-ruby
CALSCALE:GREGORIAN
BEGIN:VEVENT
DTSTAMP:20210122T080145Z
UID:85ea85a3-f062-493b-aca6-98991db2ea0b
DTSTART;VALUE=DATE:20200316
DESCRIPTION:Property ID# 474335\, Locatoin: Harcourts Paremata at 4pm (not 
 selling prior)\, Time: 4:00PM
SUMMARY:Auction for 
END:VEVENT
END:VCALENDAR
