BEGIN:VCALENDAR
VERSION:2.0
PRODID:icalendar-ruby
CALSCALE:GREGORIAN
BEGIN:VEVENT
DTSTAMP:20210122T080151Z
UID:dcafeddb-e620-406c-b57f-449cfd3d91fb
DTSTART;VALUE=DATE:20200213
DESCRIPTION:Property ID# 470455\, Locatoin: Harcourts Paremata from 5pm (no
 t selling prior)\, Time: 12:00PM
SUMMARY:Auction for 
END:VEVENT
END:VCALENDAR
