BEGIN:VCALENDAR
VERSION:2.0
PRODID:icalendar-ruby
CALSCALE:GREGORIAN
BEGIN:VEVENT
DTSTAMP:20210122T080154Z
UID:cdd6a17b-d3f9-4a5f-98c0-8be836491993
DTSTART;VALUE=DATE:20191218
DESCRIPTION:Property ID# 468307\, Locatoin: Harcourts Paremata at 4pm (unle
 ss sold prior)\, Time: 12:00PM
SUMMARY:Auction for 
END:VEVENT
END:VCALENDAR
