BEGIN:VCALENDAR
VERSION:2.0
PRODID:icalendar-ruby
CALSCALE:GREGORIAN
BEGIN:VEVENT
DTSTAMP:20210122T080515Z
UID:780fe17e-81a0-4d0d-a5b8-c269c891699f
DTSTART;VALUE=DATE:20191121
DESCRIPTION:Property ID# 464274\, Locatoin: Harcourts Paraparaumu Auction R
 oom (not selling prior)\, Time: 12:00PM
SUMMARY:Auction for 
END:VEVENT
END:VCALENDAR
