BEGIN:VCALENDAR
VERSION:2.0
PRODID:icalendar-ruby
CALSCALE:GREGORIAN
BEGIN:VEVENT
DTSTAMP:20210122T080114Z
UID:67e3a10c-4521-4a65-8b37-f041b2a974cc
DTSTART;VALUE=DATE:20191023
DESCRIPTION:Property ID# 462896\, Locatoin: Paremata Office\, Time: 12:00PM
SUMMARY:Auction for 
END:VEVENT
END:VCALENDAR
