BEGIN:VCALENDAR
VERSION:2.0
PRODID:icalendar-ruby
CALSCALE:GREGORIAN
BEGIN:VEVENT
DTSTAMP:20260424T112700Z
UID:9e3f85cd-2705-405d-b8fe-8b5c9c81b4a5
DTSTART;VALUE=DATE:20191017
DESCRIPTION:Property ID# 462224\, Locatoin: Harcourts Paraparaumu Auction R
 oom (unless sold prior)\, Time: 12:00PM
SUMMARY:Auction for 
END:VEVENT
END:VCALENDAR
