BEGIN:VCALENDAR
VERSION:2.0
PRODID:icalendar-ruby
CALSCALE:GREGORIAN
BEGIN:VEVENT
DTSTAMP:20210122T080116Z
UID:0091bf56-caa8-4a4b-8e96-c7ca6d397711
DTSTART;VALUE=DATE:20191003
DESCRIPTION:Property ID# 461270\, Locatoin: Harcourts Paraparaumu (will not
  be sold prior)\, Time: 12:00PM
SUMMARY:Auction for 
END:VEVENT
END:VCALENDAR
