BEGIN:VCALENDAR
VERSION:2.0
PRODID:icalendar-ruby
CALSCALE:GREGORIAN
BEGIN:VEVENT
DTSTAMP:20210122T080519Z
UID:84c9dbe5-ed33-4e49-903c-d87a78b827dc
DTSTART;VALUE=DATE:20190904
DESCRIPTION:Property ID# 459857\, Locatoin:  Harcourts Paremata Office. \, 
 Time: 1:00PM
SUMMARY:Auction for 
END:VEVENT
END:VCALENDAR
